BEGIN:VCALENDAR
VERSION:2.0
PRODID:-//67.225.251.70//NONSGML kigkonsult.se iCalcreator 2.20//
CALSCALE:GREGORIAN
METHOD:PUBLISH
X-FROM-URL:http://wodongahandgunclub.org.au
X-WR-TIMEZONE:Australia/Melbourne
BEGIN:VTIMEZONE
TZID:Australia/Melbourne
X-LIC-LOCATION:Australia/Melbourne
BEGIN:STANDARD
DTSTART:20180401T030000
TZOFFSETFROM:+1100
TZOFFSETTO:+1000
TZNAME:AEST
END:STANDARD
BEGIN:DAYLIGHT
DTSTART:20171001T020000
TZOFFSETFROM:+1000
TZOFFSETTO:+1100
TZNAME:AEDT
END:DAYLIGHT
END:VTIMEZONE
BEGIN:VEVENT
UID:ai1ec-656@wodongahandgunclub.org.au
DTSTAMP:20180225T221511Z
CATEGORIES;LANGUAGE=en-US:Special Club Event
CONTACT:Ruth Nicholls\; secretary@wodongahandgunclub.org.au
DESCRIPTION:<p><a href='http://wodongahandgunclub.org.au/wp-content/uploads
 /2015/10/2016-Super-Saturday-Entry-Form.pdf'>2016 Super Saturday Entry For
 m</a></p>
DTSTART;VALUE=DATE:20160521
DTEND;VALUE=DATE:20160522
GEO:-36.09023;+146.802303
LOCATION:SSAA WHGC Ranges @ Klings Rd\, West Wodonga VIC 3690\, Australia
SEQUENCE:0
SUMMARY:May – Super Saturday Steel Challenge
URL:http://wodongahandgunclub.org.au/?ai1ec_event=oct-super-saturday-steel-
 challenge
X-COST:$20.00
END:VEVENT
BEGIN:VEVENT
UID:ai1ec-158@wodongahandgunclub.org.au
DTSTAMP:20180225T221511Z
CATEGORIES:
CONTACT:P. Hanlon & M. Stielow\; secretary@wodongahandgunclub.org.au
DESCRIPTION:
DTSTART;TZID=Australia/Melbourne:20150228T120000
DTEND;TZID=Australia/Melbourne:20150228T143000
GEO:-36.063057;+146.73688
LOCATION:SSAA 300 metre range @ Kings Road\, Barnawartha North VIC 3691\, A
 ustralia
RRULE:FREQ=MONTHLY;BYDAY=4SA
SEQUENCE:0
SUMMARY:Metallic Silhouette (300mtr range) – .22rimfire/field pistol
URL:http://wodongahandgunclub.org.au/?ai1ec_event=metallic-silhouette-22rim
 firefield-pistol
END:VEVENT
BEGIN:VEVENT
UID:ai1ec-159@wodongahandgunclub.org.au
DTSTAMP:20180225T221511Z
CATEGORIES:
CONTACT:R Pollard / R Nicholls\; secretary@wodongahandgunclub.org.au
DESCRIPTION:<p>Fees non-members visitors $10.00</p>
DTSTART;TZID=Australia/Melbourne:20150228T123000
DTEND;TZID=Australia/Melbourne:20150228T163000
GEO:-36.063057;+146.73688
LOCATION:SSAA Wodonga Ranges 6\, 7 & 8 @ Kings Road\, Barnawartha North VIC
  3691\, Australia
RRULE:FREQ=MONTHLY;BYDAY=4SA
SEQUENCE:0
SUMMARY:Steel Challenge (Ranges 1\, 3\, 4\, & 5)
URL:http://wodongahandgunclub.org.au/?ai1ec_event=steel-challenge
X-COST:Visitors $10.00
END:VEVENT
BEGIN:VEVENT
UID:ai1ec-153@wodongahandgunclub.org.au
DTSTAMP:20180225T221511Z
CATEGORIES:
CONTACT:N Bartel & J Reid\; secretary@wodongahandgunclub.org.au
DESCRIPTION:
DTSTART;TZID=Australia/Melbourne:20150301T111500
DTEND;TZID=Australia/Melbourne:20150301T130000
GEO:-36.063057;+146.73688
LOCATION:SSAA Wodonga Handgun Club @ Kings Road\, Barnawartha North VIC 369
 1\, Australia
RRULE:FREQ=MONTHLY;BYDAY=1SU
SEQUENCE:0
SUMMARY:Black Powder / 25Mtr Pistol / Air-Pistol
URL:http://wodongahandgunclub.org.au/?ai1ec_event=black-powder-25-metre-air
 -pistol
END:VEVENT
BEGIN:VEVENT
UID:ai1ec-425@wodongahandgunclub.org.au
DTSTAMP:20180225T221511Z
CATEGORIES:
CONTACT:
DESCRIPTION:
DTSTART;TZID=Australia/Melbourne:20150307T101500
DTEND;TZID=Australia/Melbourne:20150307T120000
RRULE:FREQ=MONTHLY;BYDAY=1SA
SEQUENCE:0
SUMMARY:Bullseye / Classic Pistol (Range 4)
URL:http://wodongahandgunclub.org.au/?ai1ec_event=bullseye
END:VEVENT
BEGIN:VEVENT
UID:ai1ec-152@wodongahandgunclub.org.au
DTSTAMP:20180225T221511Z
CATEGORIES:
CONTACT:Ruth Nicholls\; Secretary@wodongahandgunclub.org.au
DESCRIPTION:
DTSTART;TZID=Australia/Melbourne:20150307T123000
DTEND;TZID=Australia/Melbourne:20150307T170000
GEO:-36.063057;+146.73688
LOCATION:SSAA Wodonga Handgun Club @ Kings Road\, Barnawartha North VIC 369
 1\, Australia
RRULE:FREQ=MONTHLY;BYDAY=1SA
SEQUENCE:0
SUMMARY:Service Pistol (Match) (Ranges 3 and 4)
URL:http://wodongahandgunclub.org.au/?ai1ec_event=service-match-barricades
END:VEVENT
BEGIN:VEVENT
UID:ai1ec-605@wodongahandgunclub.org.au
DTSTAMP:20180225T221511Z
CATEGORIES:
CONTACT:J. Holt & G Turnbull\; secretary@wodongahandgunclub.org.au
DESCRIPTION:
DTSTART;TZID=Australia/Melbourne:20150307T130000
DTEND;TZID=Australia/Melbourne:20150307T160000
RRULE:FREQ=MONTHLY;BYDAY=1SA
SEQUENCE:0
SUMMARY:Action Match – Practical (Range 5)
URL:http://wodongahandgunclub.org.au/?ai1ec_event=605
END:VEVENT
BEGIN:VEVENT
UID:ai1ec-155@wodongahandgunclub.org.au
DTSTAMP:20180225T221511Z
CATEGORIES:
CONTACT:D Fehring / B. Sweeney / R. Sharpe\; secretary@wodongahandgunclub.o
 rg.au
DESCRIPTION:<p>Match Fees – Members $5.00 / Non-members (visitors) $10.00</
 p>\n<p> </p>
DTSTART;TZID=Australia/Melbourne:20150308T093000
DTEND;TZID=Australia/Melbourne:20150308T153000
GEO:-36.063057;+146.73688
LOCATION:SSAA Wodonga Handgun Club @ Kings Road\, Barnawartha North VIC 369
 1\, Australia
RRULE:FREQ=MONTHLY;BYDAY=2SU
SEQUENCE:0
SUMMARY:IPSC
URL:http://wodongahandgunclub.org.au/?ai1ec_event=ipsc
X-COST-TYPE:external
X-COST:Members $5.00 - Non Members $10.00
END:VEVENT
BEGIN:VEVENT
UID:ai1ec-427@wodongahandgunclub.org.au
DTSTAMP:20180225T221511Z
CATEGORIES:
CONTACT:R Nicholls / R Pollard / G Colwell\; secretary@wodongahandgunclub.o
 rg.au
DESCRIPTION:
DTSTART;TZID=Australia/Melbourne:20150314T094500
DTEND;TZID=Australia/Melbourne:20150314T120000
LOCATION:Wodonga
RRULE:FREQ=MONTHLY;BYDAY=2SA
SEQUENCE:0
SUMMARY:Introduction Course (Booking required) (Ranges 3\, 4\, & 5)
URL:http://wodongahandgunclub.org.au/?ai1ec_event=introduction-course-booki
 ng-required
X-COST:$30.00
END:VEVENT
BEGIN:VEVENT
UID:ai1ec-157@wodongahandgunclub.org.au
DTSTAMP:20180225T221511Z
CATEGORIES:
CONTACT:R. Rickard / D. Whitford\; secretary@wodongahandgunclub.org.au
DESCRIPTION:
DTSTART;TZID=Australia/Melbourne:20150314T130000
DTEND;TZID=Australia/Melbourne:20150314T163000
GEO:-36.063057;+146.73688
LOCATION:SSAA Wodonga 50m and Range 2 @ Kings Road\, Barnawartha North VIC 
 3691\, Australia
RRULE:FREQ=MONTHLY;BYDAY=2SA
SEQUENCE:0
SUMMARY:Action Match (Range 2) – Falling Plates/Speed Poppers & Speed Plate
 s
URL:http://wodongahandgunclub.org.au/?ai1ec_event=action-pistol-range-2-pra
 ctice
END:VEVENT
BEGIN:VEVENT
UID:ai1ec-154@wodongahandgunclub.org.au
DTSTAMP:20180225T221511Z
CATEGORIES:
CONTACT:G Colwell\; secretary@wodongahandgunclub.org.au
DESCRIPTION:<div title='Page 1'></div>
DTSTART;TZID=Australia/Melbourne:20150314T130000
DTEND;TZID=Australia/Melbourne:20150314T151500
GEO:-36.063057;+146.73688
LOCATION:SSAA Wodonga Handgun Club @ Kings Road\, Barnawartha North VIC 369
 1\, Australia
RRULE:FREQ=MONTHLY;BYDAY=2SA
SEQUENCE:0
SUMMARY:Centrefire / 25mtr Pistol (Ranges 3\, 4 & 5)
URL:http://wodongahandgunclub.org.au/?ai1ec_event=centre-fire-25-metre
END:VEVENT
BEGIN:VEVENT
UID:ai1ec-280@wodongahandgunclub.org.au
DTSTAMP:20180225T221511Z
CATEGORIES:
CONTACT:Robert Marks / Mark Evens\; secretary@wodongahandgunclub.org.au
DESCRIPTION:
DTSTART;TZID=Australia/Melbourne:20150321T101500
DTEND;TZID=Australia/Melbourne:20150321T121500
GEO:-36.063057;+146.73688
LOCATION:SSAA Wodonga 50m Range @ Kings Road\, Barnawartha North VIC 3691\,
  Australia
RRULE:FREQ=MONTHLY;BYDAY=3SA
SEQUENCE:0
SUMMARY:Centrefire / 25mtr Pistol (Ranges 3\, 4 & 5)
URL:http://wodongahandgunclub.org.au/?ai1ec_event=centrefire-25m
END:VEVENT
BEGIN:VEVENT
UID:ai1ec-428@wodongahandgunclub.org.au
DTSTAMP:20180225T221511Z
CATEGORIES:
CONTACT:J Holt & G Turnbull\; secretary2wodongahandgunclub.org.au
DESCRIPTION:
DTSTART;TZID=Australia/Melbourne:20150321T130000
DTEND;TZID=Australia/Melbourne:20150321T153000
RRULE:FREQ=MONTHLY;BYDAY=3SA
SEQUENCE:0
SUMMARY:Action Match – Barricades (Range 5)
URL:http://wodongahandgunclub.org.au/?ai1ec_event=action-pistol-practical-e
 vent
END:VEVENT
BEGIN:VEVENT
UID:ai1ec-156@wodongahandgunclub.org.au
DTSTAMP:20180225T221511Z
CATEGORIES:
CONTACT:D Wornes & B. Pfeiffer\; secretary@wodongahandgunclub.org.au
DESCRIPTION:
DTSTART;TZID=Australia/Melbourne:20150321T130000
DTEND;TZID=Australia/Melbourne:20150321T160000
GEO:-36.063057;+146.73688
LOCATION:SSAA 300 metre range @ Kings Road\, Barnawartha North VIC 3691\, A
 ustralia
RRULE:FREQ=MONTHLY;BYDAY=3SA
SEQUENCE:0
SUMMARY:Metallic Silhouette (300mtr range)- Big Bore/Field Pistol
URL:http://wodongahandgunclub.org.au/?ai1ec_event=metallic-silhouette-big-b
 orefield-pistol
END:VEVENT
BEGIN:VEVENT
UID:ai1ec-160@wodongahandgunclub.org.au
DTSTAMP:20180225T221511Z
CATEGORIES:
CONTACT:secretary@wodongahandgunclub.org.au
DESCRIPTION:
DTSTART;TZID=Australia/Melbourne:20150530T000000
DTEND;TZID=Australia/Melbourne:20150530T040000
EXDATE;TZID=Australia/Melbourne:20130628T000000
EXDATE;TZID=Australia/Melbourne:20130629T000000
GEO:-36.063057;+146.73688
LOCATION:SSAA Wodonga Handgun Club @ Kings Road\, Barnawartha North VIC 369
 1\, Australia
RRULE:FREQ=MONTHLY;BYDAY=5SA
SEQUENCE:0
SUMMARY:Novelty Events
URL:http://wodongahandgunclub.org.au/?ai1ec_event=novelty-events
END:VEVENT
BEGIN:VEVENT
UID:ai1ec-231@wodongahandgunclub.org.au
DTSTAMP:20180225T221511Z
CATEGORIES:
CONTACT:Ruth Nicholls\; secretary@wodongahandgunclub.org.au
DESCRIPTION:
DTSTART;TZID=Australia/Melbourne:20150822T101500
DTEND;TZID=Australia/Melbourne:20150822T120000
LOCATION:SSAA Wodonga 300mtr Ranges
RRULE:FREQ=MONTHLY;BYDAY=4SA
SEQUENCE:0
SUMMARY:Standard Pistol (Ranges 3\, 4 & 5)
URL:http://wodongahandgunclub.org.au/?ai1ec_event=ssaa-wodonga-v06-agm
END:VEVENT
BEGIN:VEVENT
UID:ai1ec-277@wodongahandgunclub.org.au
DTSTAMP:20180225T221511Z
CATEGORIES:
CONTACT:Ruth\; 0411260568\; secretary@wodongahandgunclub.org.au
DESCRIPTION:<p>AGM – Scheduled for 3rd June 10.30am Start</p>\n<p>No Shooti
 ng while AGM in progress</p>
DTSTART;TZID=Australia/Melbourne:20170603T101500
DTEND;TZID=Australia/Melbourne:20170603T120000
GEO:-36.124094;+146.881764
LOCATION:SSAA WHGC Club Rooms @ Wodonga VIC 3690\, Australia
SEQUENCE:0
SUMMARY:WHGC AGM 3rd June
URL:http://wodongahandgunclub.org.au/?ai1ec_event=whgc-agmforum
END:VEVENT
END:VCALENDAR
